BEGIN:VCALENDAR
VERSION:2.0
PRODID:-//eventon.com NONSGML v1.0//EN
CALSCALE:GREGORIAN
METHOD:PUBLISH
BEGIN:VEVENT
UID:69e6871d7fd7a
DTSTAMP:20260420T200549Z
DTSTART:20240616T070000Z
DTEND:20240616T150000Z
LOCATION:Airport Weeze Baaler Strasse\,  47652 Weez
SUMMARY:Volkstyle Base
DESCRIPTION:Die Volkstyle Base ist am 16. Juni 2024 wieder am Airport Weeze
  mit mehr als 2.000 VAG Fahrzeugen. Die Hallen und Plätze werden voll mit 
 den schönsten Kreationen sein und in der Haupthalle können Sie den Show &
 amp; Shine Contest genießen. &nbsp; Tickets unter: www.Volkstylebase.com\n
 https://tuninghunters.com/events/volkstyle-base/
URL:https://tuninghunters.com/events/volkstyle-base/
END:VEVENT
END:VCALENDAR