BEGIN:VCALENDAR
VERSION:2.0
PRODID:-//eventon.com NONSGML v1.0//EN
CALSCALE:GREGORIAN
METHOD:PUBLISH
BEGIN:VEVENT
UID:69e88b060a40e
DTSTAMP:20260422T084702Z
DTSTART:20240623T080000Z
DTEND:20240623T150000Z
LOCATION:Marktkauf Lemgo Grevenmarschstraße 4-12\,  32657 Lemgo
SUMMARY:Legenden in Lippe
DESCRIPTION:OWL&#8217;s größtes Oldtimer\,  Youngtimer &amp; US-Car Treff
 en geht in die 13. Runde!!! Wie in den letzten Jahren erwarten Euch themenb
 ezogene Ausstellerstände mit Ersatzteilen\,  Fahrzeugliteratur\,  Pflegepr
 odukte\,  Beratung zur Oldtimerrestauration und vieles mehr. Im letzten Jah
 r besuchten uns über 1300 Fahrzeuge\,  darunter Oldtimer\,  Youngtimer\,  
 Landmaschinen und Motorräder. Der 23.06.2024 wird wieder ein[..]\nhttps://
 tuninghunters.com/events/legenden-in-lippe-2/
URL:https://tuninghunters.com/events/legenden-in-lippe-2/
END:VEVENT
END:VCALENDAR